BEGIN:VCALENDAR
VERSION:2.0
PRODID:-//time.you/holidays//NONSGML v1.0//EN
BEGIN:VEVENT
UID:06c5dde3-fb62-4452-a048-3b317a26faad
DTSTAMP:20260421T144209Z
DTSTART;VALUE=DATE:20260101
SUMMARY:New Year's Day (El Salvador)
END:VEVENT
END:VCALENDAR