BEGIN:VCALENDAR
VERSION:2.0
PRODID:-//time.you/holidays//NONSGML v1.0//EN
BEGIN:VEVENT
UID:2fa6534c-375c-4bc0-9724-f52470da55cc
DTSTAMP:20260422T020916Z
DTSTART;VALUE=DATE:20240123
SUMMARY:AFCON Victory Against Ivory Coast (Equatorial Guinea)
END:VEVENT
END:VCALENDAR