BEGIN:VCALENDAR
VERSION:2.0
PRODID:-//time.you/holidays//NONSGML v1.0//EN
BEGIN:VEVENT
UID:53ff704e-d811-4c88-9fc8-9fa33298dee3
DTSTAMP:20260421T065542Z
DTSTART;VALUE=DATE:20260803
SUMMARY:Armed Forces Day (Equatorial Guinea)
END:VEVENT
END:VCALENDAR