BEGIN:VCALENDAR
VERSION:2.0
PRODID:-//time.you/holidays//NONSGML v1.0//EN
BEGIN:VEVENT
UID:2fef28f5-15c4-4d6a-9118-d7d778bb1f77
DTSTAMP:20260422T124355Z
DTSTART;VALUE=DATE:20260815
SUMMARY:Constitution Day (Equatorial Guinea)
END:VEVENT
END:VCALENDAR