BEGIN:VCALENDAR
VERSION:2.0
PRODID:-//time.you/holidays//NONSGML v1.0//EN
BEGIN:VEVENT
UID:cb7880a8-101e-4396-b4aa-490ac8780e09
DTSTAMP:20260420T040144Z
DTSTART;VALUE=DATE:20260604
SUMMARY:Corpus Christi (Equatorial Guinea)
END:VEVENT
END:VCALENDAR