BEGIN:VCALENDAR
VERSION:2.0
PRODID:-//time.you/holidays//NONSGML v1.0//EN
BEGIN:VEVENT
UID:5b087ec0-373b-44d3-b74b-c79de86b8fe8
DTSTAMP:20260421T105139Z
DTSTART;VALUE=DATE:20260403
SUMMARY:Good Friday (Equatorial Guinea)
END:VEVENT
END:VCALENDAR