BEGIN:VCALENDAR
VERSION:2.0
PRODID:-//time.you/holidays//NONSGML v1.0//EN
BEGIN:VEVENT
UID:e0c9cce2-3cc0-4cca-84cd-1f288bb74a38
DTSTAMP:20260424T013307Z
DTSTART;VALUE=DATE:20261012
SUMMARY:Independence Day (Equatorial Guinea)
END:VEVENT
END:VCALENDAR