BEGIN:VCALENDAR
VERSION:2.0
PRODID:-//time.you/holidays//NONSGML v1.0//EN
BEGIN:VEVENT
UID:da742c14-4bbe-4c09-9a1c-3a3a946901e1
DTSTAMP:20260421T230855Z
DTSTART;VALUE=DATE:20260613
SUMMARY:Patron Saint Festival of Annobón (Equatorial Guinea)
END:VEVENT
END:VCALENDAR