BEGIN:VCALENDAR
VERSION:2.0
PRODID:-//time.you/holidays//NONSGML v1.0//EN
BEGIN:VEVENT
UID:50f70920-12e3-4d58-9739-78514bfd8d69
DTSTAMP:20260422T065828Z
DTSTART;VALUE=DATE:20260605
SUMMARY:President's Day (Equatorial Guinea)
END:VEVENT
END:VCALENDAR