BEGIN:VCALENDAR
VERSION:2.0
PRODID:-//time.you/holidays//NONSGML v1.0//EN
BEGIN:VEVENT
UID:86b186ad-94e6-4f08-9aa4-54e3c7bfc774
DTSTAMP:20260421T133956Z
DTSTART;VALUE=DATE:20260320
SUMMARY:Eid al-Fitr (estimated) (Eritrea)
END:VEVENT
END:VCALENDAR