BEGIN:VCALENDAR
VERSION:2.0
PRODID:-//time.you/holidays//NONSGML v1.0//EN
BEGIN:VEVENT
UID:72889c71-a5a2-435f-9289-6d1127fbd3c3
DTSTAMP:20260422T052415Z
DTSTART;VALUE=DATE:20260524
SUMMARY:Independence Day (Eritrea)
END:VEVENT
END:VCALENDAR