BEGIN:VCALENDAR
VERSION:2.0
PRODID:-//time.you/holidays//NONSGML v1.0//EN
BEGIN:VEVENT
UID:219d51cd-e3e2-46aa-a8dc-e4f6a913d548
DTSTAMP:20260420T130309Z
DTSTART;VALUE=DATE:20260501
SUMMARY:International Workers' Day (Eritrea)
END:VEVENT
END:VCALENDAR