BEGIN:VCALENDAR
VERSION:2.0
PRODID:-//time.you/holidays//NONSGML v1.0//EN
BEGIN:VEVENT
UID:28faffc1-5947-45cc-aa42-2260f02f180c
DTSTAMP:20260423T205000Z
DTSTART;VALUE=DATE:20260620
SUMMARY:Martyrs' Day (Eritrea)
END:VEVENT
END:VCALENDAR