BEGIN:VCALENDAR
VERSION:2.0
PRODID:-//time.you/holidays//NONSGML v1.0//EN
BEGIN:VEVENT
UID:3a6607a6-123a-444e-970a-3636cc6dda64
DTSTAMP:20260419T180611Z
DTSTART;VALUE=DATE:20260107
SUMMARY:Orthodox Christmas (Eritrea)
END:VEVENT
END:VCALENDAR