BEGIN:VCALENDAR
VERSION:2.0
PRODID:-//time.you/holidays//NONSGML v1.0//EN
BEGIN:VEVENT
UID:cd6da306-0188-4251-b907-9efccea5b78a
DTSTAMP:20260420T231726Z
DTSTART;VALUE=DATE:20260412
SUMMARY:Orthodox Easter (Eritrea)
END:VEVENT
END:VCALENDAR