BEGIN:VCALENDAR
VERSION:2.0
PRODID:-//time.you/holidays//NONSGML v1.0//EN
BEGIN:VEVENT
UID:93be7696-1f55-4430-9106-f036b997786f
DTSTAMP:20260420T062348Z
DTSTART;VALUE=DATE:20260825
SUMMARY:Prophet's Birthday (estimated) (Eritrea)
END:VEVENT
END:VCALENDAR