BEGIN:VCALENDAR
VERSION:2.0
PRODID:-//time.you/holidays//NONSGML v1.0//EN
BEGIN:VEVENT
UID:ea0cf45a-3067-4330-88fa-1bcbc2348469
DTSTAMP:20260421T065731Z
DTSTART;VALUE=DATE:20260403
SUMMARY:Good Friday (Estonia)
END:VEVENT
END:VCALENDAR