BEGIN:VCALENDAR
VERSION:2.0
PRODID:-//time.you/holidays//NONSGML v1.0//EN
BEGIN:VEVENT
UID:1a8fde02-8002-4af5-b5f3-b3362a9ebe0c
DTSTAMP:20260424T055459Z
DTSTART;VALUE=DATE:20260224
SUMMARY:Independence Day (Estonia)
END:VEVENT
END:VCALENDAR