BEGIN:VCALENDAR
VERSION:2.0
PRODID:-//time.you/holidays//NONSGML v1.0//EN
BEGIN:VEVENT
UID:4d55a8f8-ee9d-4ccc-be63-147cc47d9a0a
DTSTAMP:20260421T154926Z
DTSTART;VALUE=DATE:20260820
SUMMARY:Independence Restoration Day (Estonia)
END:VEVENT
END:VCALENDAR