BEGIN:VCALENDAR
VERSION:2.0
PRODID:-//time.you/holidays//NONSGML v1.0//EN
BEGIN:VEVENT
UID:aab4719b-106a-4261-98cc-c3e91c2e6cb0
DTSTAMP:20260420T021454Z
DTSTART;VALUE=DATE:20260623
SUMMARY:Victory Day (Estonia)
END:VEVENT
END:VCALENDAR