BEGIN:VCALENDAR
VERSION:2.0
PRODID:-//time.you/holidays//NONSGML v1.0//EN
BEGIN:VEVENT
UID:03396437-e77f-4b94-9ce9-6a1c8d694999
DTSTAMP:20260421T105511Z
DTSTART;VALUE=DATE:20271227
SUMMARY:Boxing Day (observed) (Eswatini)
END:VEVENT
END:VCALENDAR