BEGIN:VCALENDAR
VERSION:2.0
PRODID:-//time.you/holidays//NONSGML v1.0//EN
BEGIN:VEVENT
UID:561f713e-229e-482c-ad9c-01748d4f11a7
DTSTAMP:20260425T014353Z
DTSTART;VALUE=DATE:20261225
SUMMARY:Christmas Day (Eswatini)
END:VEVENT
END:VCALENDAR