BEGIN:VCALENDAR
VERSION:2.0
PRODID:-//time.you/holidays//NONSGML v1.0//EN
BEGIN:VEVENT
UID:19fbbfe1-3bf9-417d-a407-20ca0f6ac536
DTSTAMP:20260420T213456Z
DTSTART;VALUE=DATE:20260406
SUMMARY:Easter Monday (Eswatini)
END:VEVENT
END:VCALENDAR