BEGIN:VCALENDAR
VERSION:2.0
PRODID:-//time.you/holidays//NONSGML v1.0//EN
BEGIN:VEVENT
UID:e6a75506-fa7c-4029-a0b8-8b82213166df
DTSTAMP:20260421T001625Z
DTSTART;VALUE=DATE:20260403
SUMMARY:Good Friday (Eswatini)
END:VEVENT
END:VCALENDAR