BEGIN:VCALENDAR
VERSION:2.0
PRODID:-//time.you/holidays//NONSGML v1.0//EN
BEGIN:VEVENT
UID:aa13fa2a-7a38-4991-b8d4-71d7927a05ea
DTSTAMP:20260425T003840Z
DTSTART;VALUE=DATE:20330502
SUMMARY:Worker's Day (observed) (Eswatini)
END:VEVENT
END:VCALENDAR