BEGIN:VCALENDAR
VERSION:2.0
PRODID:-//time.you/holidays//NONSGML v1.0//EN
BEGIN:VEVENT
UID:71d3f27c-b27a-481e-9030-519797e441a7
DTSTAMP:20260419T221625Z
DTSTART;VALUE=DATE:20260302
SUMMARY:Adwa Victory Day (Ethiopia)
END:VEVENT
END:VCALENDAR