BEGIN:VCALENDAR
VERSION:2.0
PRODID:-//time.you/holidays//NONSGML v1.0//EN
BEGIN:VEVENT
UID:ef65ad30-1bcb-4a8a-a64c-14e1a548fb8c
DTSTAMP:20260421T210358Z
DTSTART;VALUE=DATE:20260107
SUMMARY:Christmas Day (Ethiopia)
END:VEVENT
END:VCALENDAR