BEGIN:VCALENDAR
VERSION:2.0
PRODID:-//time.you/holidays//NONSGML v1.0//EN
BEGIN:VEVENT
UID:c84bc88d-5749-4f1f-b852-1665f98c944b
DTSTAMP:20260420T021750Z
DTSTART;VALUE=DATE:20260528
SUMMARY:Downfall of the Dergue Regime Day (Ethiopia)
END:VEVENT
END:VCALENDAR