BEGIN:VCALENDAR
VERSION:2.0
PRODID:-//time.you/holidays//NONSGML v1.0//EN
BEGIN:VEVENT
UID:0041eb4b-9829-457d-b91c-7493d3a30ad5
DTSTAMP:20260421T065249Z
DTSTART;VALUE=DATE:20260119
SUMMARY:Epiphany (Ethiopia)
END:VEVENT
END:VCALENDAR