BEGIN:VCALENDAR
VERSION:2.0
PRODID:-//time.you/holidays//NONSGML v1.0//EN
BEGIN:VEVENT
UID:e16a7084-7dc4-4770-b05e-336e5de2b687
DTSTAMP:20260420T084737Z
DTSTART;VALUE=DATE:20260911
SUMMARY:Ethiopian New Year (Ethiopia)
END:VEVENT
END:VCALENDAR