BEGIN:VCALENDAR
VERSION:2.0
PRODID:-//time.you/holidays//NONSGML v1.0//EN
BEGIN:VEVENT
UID:1943275e-9b87-488a-91f0-91b7c129971f
DTSTAMP:20260420T184823Z
DTSTART;VALUE=DATE:20260410
SUMMARY:Good Friday (Ethiopia)
END:VEVENT
END:VCALENDAR