BEGIN:VCALENDAR
VERSION:2.0
PRODID:-//time.you/holidays//NONSGML v1.0//EN
BEGIN:VEVENT
UID:4d9af1b4-19de-4ba5-8193-e322e3206ddb
DTSTAMP:20260420T154820Z
DTSTART;VALUE=DATE:20260825
SUMMARY:Prophet's Birthday (estimated) (Ethiopia)
END:VEVENT
END:VCALENDAR