BEGIN:VCALENDAR
VERSION:2.0
PRODID:-//time.you/holidays//NONSGML v1.0//EN
BEGIN:VEVENT
UID:bb60d755-4de5-4056-b57c-23206b2c162f
DTSTAMP:20260425T105949Z
DTSTART;VALUE=DATE:20250905
SUMMARY:Prophet's Birthday (Ethiopia)
END:VEVENT
END:VCALENDAR