BEGIN:VCALENDAR
VERSION:2.0
PRODID:-//time.you/holidays//NONSGML v1.0//EN
BEGIN:VEVENT
UID:e832e1a8-5f0d-40ad-ac52-0d9e16a73c43
DTSTAMP:20260421T155110Z
DTSTART;VALUE=DATE:20261226
SUMMARY:Boxing Day (Falkland Islands)
END:VEVENT
END:VCALENDAR