BEGIN:VCALENDAR
VERSION:2.0
PRODID:-//time.you/holidays//NONSGML v1.0//EN
BEGIN:VEVENT
UID:5151fa2a-71e8-4262-8938-a4667f71c832
DTSTAMP:20260422T053730Z
DTSTART;VALUE=DATE:20261114
SUMMARY:King's Birthday (Falkland Islands)
END:VEVENT
END:VCALENDAR