BEGIN:VCALENDAR
VERSION:2.0
PRODID:-//time.you/holidays//NONSGML v1.0//EN
BEGIN:VEVENT
UID:05ab25f6-c4f4-4645-ba2a-8bc859d8eabc
DTSTAMP:20260422T100535Z
DTSTART;VALUE=DATE:20260615
SUMMARY:Liberation Day (observed) (Falkland Islands)
END:VEVENT
END:VCALENDAR