BEGIN:VCALENDAR
VERSION:2.0
PRODID:-//time.you/holidays//NONSGML v1.0//EN
BEGIN:VEVENT
UID:bd9ae595-4efc-4759-8c5a-332982391672
DTSTAMP:20260420T024717Z
DTSTART;VALUE=DATE:20260614
SUMMARY:Liberation Day (Falkland Islands)
END:VEVENT
END:VCALENDAR