BEGIN:VCALENDAR
VERSION:2.0
PRODID:-//time.you/holidays//NONSGML v1.0//EN
BEGIN:VEVENT
UID:3d7e479d-1a57-4ec7-8fdd-6868d11c1b8e
DTSTAMP:20260420T165200Z
DTSTART;VALUE=DATE:20260101
SUMMARY:New Year's Day (Falkland Islands)
END:VEVENT
END:VCALENDAR