BEGIN:VCALENDAR
VERSION:2.0
PRODID:-//time.you/holidays//NONSGML v1.0//EN
BEGIN:VEVENT
UID:1a3ab95f-acee-4919-a195-ee90ed32c0ae
DTSTAMP:20260421T215213Z
DTSTART;VALUE=DATE:20261225
SUMMARY:Christmas Day (Faroe Islands)
END:VEVENT
END:VCALENDAR