BEGIN:VCALENDAR
VERSION:2.0
PRODID:-//time.you/holidays//NONSGML v1.0//EN
BEGIN:VEVENT
UID:db0493ce-2927-42d0-ba1f-9c70f68647ec
DTSTAMP:20260422T005250Z
DTSTART;VALUE=DATE:20260406
SUMMARY:Easter Monday (Faroe Islands)
END:VEVENT
END:VCALENDAR