BEGIN:VCALENDAR
VERSION:2.0
PRODID:-//time.you/holidays//NONSGML v1.0//EN
BEGIN:VEVENT
UID:325403b8-6562-44c5-8d6b-437df43632d0
DTSTAMP:20260422T021523Z
DTSTART;VALUE=DATE:20260402
SUMMARY:Maundy Thursday (Faroe Islands)
END:VEVENT
END:VCALENDAR