BEGIN:VCALENDAR
VERSION:2.0
PRODID:-//time.you/holidays//NONSGML v1.0//EN
BEGIN:VEVENT
UID:ca879175-0c90-480d-a4a3-79161d31f6cc
DTSTAMP:20260420T154757Z
DTSTART;VALUE=DATE:20260101
SUMMARY:New Year's Day (Faroe Islands)
END:VEVENT
END:VCALENDAR