BEGIN:VCALENDAR
VERSION:2.0
PRODID:-//time.you/holidays//NONSGML v1.0//EN
BEGIN:VEVENT
UID:38f51acb-a6a7-462b-878a-df6f51f6ee0d
DTSTAMP:20260420T062549Z
DTSTART;VALUE=DATE:20261226
SUMMARY:Second Day of Christmas (Faroe Islands)
END:VEVENT
END:VCALENDAR