BEGIN:VCALENDAR
VERSION:2.0
PRODID:-//time.you/holidays//NONSGML v1.0//EN
BEGIN:VEVENT
UID:687059ac-f17b-4746-b3b9-976a3f03fa94
DTSTAMP:20260422T052109Z
DTSTART;VALUE=DATE:20260524
SUMMARY:Whit Sunday (Faroe Islands)
END:VEVENT
END:VCALENDAR