BEGIN:VCALENDAR
VERSION:2.0
PRODID:-//time.you/holidays//NONSGML v1.0//EN
BEGIN:VEVENT
UID:c2c5be6c-c556-45c7-9510-a0ff21599d9e
DTSTAMP:20260420T184359Z
DTSTART;VALUE=DATE:20261226
SUMMARY:Boxing Day (Fiji)
END:VEVENT
END:VCALENDAR