BEGIN:VCALENDAR
VERSION:2.0
PRODID:-//time.you/holidays//NONSGML v1.0//EN
BEGIN:VEVENT
UID:0999905a-bfb1-4d03-b9d9-73cf97858c7d
DTSTAMP:20260421T154432Z
DTSTART;VALUE=DATE:20271227
SUMMARY:Christmas Day (observed) (Fiji)
END:VEVENT
END:VCALENDAR