BEGIN:VCALENDAR
VERSION:2.0
PRODID:-//time.you/holidays//NONSGML v1.0//EN
BEGIN:VEVENT
UID:932a8b7f-55eb-4d92-a21f-6f6d16e53290
DTSTAMP:20260424T023646Z
DTSTART;VALUE=DATE:20251021
SUMMARY:Diwali (Fiji)
END:VEVENT
END:VCALENDAR