BEGIN:VCALENDAR
VERSION:2.0
PRODID:-//time.you/holidays//NONSGML v1.0//EN
BEGIN:VEVENT
UID:e5f1e5a4-66c9-484b-ba4a-a202062bfa56
DTSTAMP:20260423T133312Z
DTSTART;VALUE=DATE:20260406
SUMMARY:Easter Monday (Fiji)
END:VEVENT
END:VCALENDAR