BEGIN:VCALENDAR
VERSION:2.0
PRODID:-//time.you/holidays//NONSGML v1.0//EN
BEGIN:VEVENT
UID:5b68bd8a-1fdc-49b8-8c2a-413bcd2cb5d5
DTSTAMP:20260420T030652Z
DTSTART;VALUE=DATE:20261010
SUMMARY:Fiji Day (Fiji)
END:VEVENT
END:VCALENDAR