BEGIN:VCALENDAR
VERSION:2.0
PRODID:-//time.you/holidays//NONSGML v1.0//EN
BEGIN:VEVENT
UID:bd495c5f-956f-4ca5-81b0-0078c437c052
DTSTAMP:20260419T180616Z
DTSTART;VALUE=DATE:20260511
SUMMARY:Girmit Day (Fiji)
END:VEVENT
END:VCALENDAR